BEGIN:VCALENDAR
VERSION:2.0
PRODID:-//DIscover Washington County - ECPv6.9.0//NONSGML v1.0//EN
CALSCALE:GREGORIAN
METHOD:PUBLISH
X-WR-CALNAME:DIscover Washington County
X-ORIGINAL-URL:https://discoverwashingtoncountyor.com
X-WR-CALDESC:Events for DIscover Washington County
REFRESH-INTERVAL;VALUE=DURATION:PT1H
X-Robots-Tag:noindex
X-PUBLISHED-TTL:PT1H
BEGIN:VTIMEZONE
TZID:America/New_York
BEGIN:DAYLIGHT
TZOFFSETFROM:-0500
TZOFFSETTO:-0400
TZNAME:EDT
DTSTART:20250309T070000
END:DAYLIGHT
BEGIN:STANDARD
TZOFFSETFROM:-0400
TZOFFSETTO:-0500
TZNAME:EST
DTSTART:20251102T060000
END:STANDARD
END:VTIMEZONE
BEGIN:VEVENT
DTSTART;TZID=America/New_York:20250129T080000
DTEND;TZID=America/New_York:20250209T170000
DTSTAMP:20260425T034026
CREATED:20250112T210410Z
LAST-MODIFIED:20250113T011948Z
UID:318664-1738137600-1739120400@discoverwashingtoncountyor.com
SUMMARY:Customer Appreciation Discount Spring 2025
DESCRIPTION:Enjoy up to 30% off our plumbing repair services as our way of saying “thank you” for your continued support. (Materials not included in the discount.) Don’t miss out! Let us help you keep your home in top shape this season!
URL:https://discoverwashingtoncountyor.com/event/customer-appreciation-discount-spring-2025/
LOCATION:Prime Plumbing\, NY\, 10005\, United States
CATEGORIES:Community Events,Discounted Repairs,Exclusive Deals
ATTACH;FMTTYPE=image/jpeg:https://discoverwashingtoncountyor.com/wp-content/uploads/2024/12/defaultevent1.jpg
END:VEVENT
END:VCALENDAR